BEGIN:VCALENDAR
VERSION:2.0
PRODID:http://www.spkantonzh.ch/aktuell/termine
CALSCALE:GREGORIAN
BEGIN:VEVENT
DTSTART:20210309T180000
DTEND:20210309T190000
DTSTAMP:20231027T170407Z
UID:spevent94372
DESCRIPTION:<strong>Vermisst du den Austausch mit Genoss*innen?</strong>  &nbsp;  Der wöchentliche SP-Stammtisch kann momentan nicht physisch im Café Boy stattfinden, weshalb wir seit einigen Wochen einen Online-Stammtisch anbieten. Dieser gibt dir die Gelegenheit, Sekretariat, Präsidium, Nationalrät*innen und weitere Mitglieder der SP Zürich kennenzulernen. Der digitale Austausch unter Genoss*innen wird auch im März wieder stattfinden.  <strong>Immer dienstags ab 18:00 Uhr </strong>kannst du hier mit anderen Genoss*innen diskutieren.  <a href="https://spzuerich.typeform.com/to/Nso5oaqT">Melde dich hier für den Online-Stammtisch an</a>, um den Zoom-Link zu erhalten!  &nbsp;  Am 09. März wird <strong>Jacqueline Peter, Kandidatin für das Präsidium im Schulkreis Uto</strong>, am Stammtisch dabei sein. Mehr Infos über Jacqueline findet ihr <a href="https://www.jacqueline-peter.ch/mitgliedschaften.html">hier</a>.
SUMMARY:Online Stammtisch mit Jacqueline Peter
LOCATION:Online auf Zoom
END:VEVENT
END:VCALENDAR